BEGIN:VCALENDAR
VERSION:2.0
PRODID:-//NBOME - ECPv6.15.16.1//NONSGML v1.0//EN
CALSCALE:GREGORIAN
METHOD:PUBLISH
X-WR-CALNAME:NBOME
X-ORIGINAL-URL:https://www.nbome.org
X-WR-CALDESC:Events for NBOME
REFRESH-INTERVAL;VALUE=DURATION:PT1H
X-Robots-Tag:noindex
X-PUBLISHED-TTL:PT1H
BEGIN:VTIMEZONE
TZID:America/Chicago
BEGIN:DAYLIGHT
TZOFFSETFROM:-0600
TZOFFSETTO:-0500
TZNAME:CDT
DTSTART:20240310T080000
END:DAYLIGHT
BEGIN:STANDARD
TZOFFSETFROM:-0500
TZOFFSETTO:-0600
TZNAME:CST
DTSTART:20241103T070000
END:STANDARD
BEGIN:DAYLIGHT
TZOFFSETFROM:-0600
TZOFFSETTO:-0500
TZNAME:CDT
DTSTART:20250309T080000
END:DAYLIGHT
BEGIN:STANDARD
TZOFFSETFROM:-0500
TZOFFSETTO:-0600
TZNAME:CST
DTSTART:20251102T070000
END:STANDARD
BEGIN:DAYLIGHT
TZOFFSETFROM:-0600
TZOFFSETTO:-0500
TZNAME:CDT
DTSTART:20260308T080000
END:DAYLIGHT
BEGIN:STANDARD
TZOFFSETFROM:-0500
TZOFFSETTO:-0600
TZNAME:CST
DTSTART:20261101T070000
END:STANDARD
END:VTIMEZONE
BEGIN:VTIMEZONE
TZID:America/New_York
BEGIN:DAYLIGHT
TZOFFSETFROM:-0500
TZOFFSETTO:-0400
TZNAME:EDT
DTSTART:20240310T070000
END:DAYLIGHT
BEGIN:STANDARD
TZOFFSETFROM:-0400
TZOFFSETTO:-0500
TZNAME:EST
DTSTART:20241103T060000
END:STANDARD
BEGIN:DAYLIGHT
TZOFFSETFROM:-0500
TZOFFSETTO:-0400
TZNAME:EDT
DTSTART:20250309T070000
END:DAYLIGHT
BEGIN:STANDARD
TZOFFSETFROM:-0400
TZOFFSETTO:-0500
TZNAME:EST
DTSTART:20251102T060000
END:STANDARD
BEGIN:DAYLIGHT
TZOFFSETFROM:-0500
TZOFFSETTO:-0400
TZNAME:EDT
DTSTART:20260308T070000
END:DAYLIGHT
BEGIN:STANDARD
TZOFFSETFROM:-0400
TZOFFSETTO:-0500
TZNAME:EST
DTSTART:20261101T060000
END:STANDARD
END:VTIMEZONE
BEGIN:VEVENT
DTSTART;VALUE=DATE:20251009
DTEND;VALUE=DATE:20251010
DTSTAMP:20260423T071454
CREATED:20241106T162417Z
LAST-MODIFIED:20241112T134323Z
UID:7685-1759968000-1760054399@www.nbome.org
SUMMARY:Level 3 Score Release August 4-30
DESCRIPTION:Score release date for those who took their COMLEX-USA Level 3 exam between August 4 and August 30\, 2025.
URL:https://www.nbome.org/event/level-3-score-release-august-4-30/
CATEGORIES:Score Release Date
ATTACH;FMTTYPE=image/png:https://www.nbome.org/app/uploads/2024/11/L3-Score-Release.png
END:VEVENT
BEGIN:VEVENT
DTSTART;VALUE=DATE:20251007
DTEND;VALUE=DATE:20251008
DTSTAMP:20260423T071454
CREATED:20241106T184127Z
LAST-MODIFIED:20241112T134337Z
UID:7708-1759795200-1759881599@www.nbome.org
SUMMARY:Level 1 Score Release August 28-September 26
DESCRIPTION:Score release date for those who took their COMLEX-USA Level 1 exam between August 28 and September 26\, 2025.
URL:https://www.nbome.org/event/level-1-score-release-august-28-september-26/
CATEGORIES:Score Release Date
ATTACH;FMTTYPE=image/png:https://www.nbome.org/app/uploads/2024/11/L1-Score-Release.png
END:VEVENT
BEGIN:VEVENT
DTSTART;VALUE=DATE:20250923
DTEND;VALUE=DATE:20250924
DTSTAMP:20260423T071454
CREATED:20241106T191915Z
LAST-MODIFIED:20241112T134351Z
UID:7741-1758585600-1758671999@www.nbome.org
SUMMARY:Level 2-CE Score Release August 24-September 12
DESCRIPTION:Score release date for those who took their COMLEX-USA Level 2-CE exam between August 24 and September 12\, 2025.
URL:https://www.nbome.org/event/level-2-ce-score-release-august-24-september-12/
CATEGORIES:Score Release Date
ATTACH;FMTTYPE=image/png:https://www.nbome.org/app/uploads/2024/11/L2-Score-Release.png
END:VEVENT
BEGIN:VEVENT
DTSTART;VALUE=DATE:20250911
DTEND;VALUE=DATE:20250912
DTSTAMP:20260423T071454
CREATED:20250722T153217Z
LAST-MODIFIED:20250722T153217Z
UID:10078-1757548800-1757635199@www.nbome.org
SUMMARY:DMU-COM Visit
DESCRIPTION:60 minutes with faculty and 60 minutes with students.
URL:https://www.nbome.org/event/dmu-com-visit/
CATEGORIES:College Visit
ATTACH;FMTTYPE=image/jpeg:https://www.nbome.org/app/uploads/2025/07/DMU_New_Campus_3-1200x675-1.jpeg
END:VEVENT
BEGIN:VEVENT
DTSTART;VALUE=DATE:20250911
DTEND;VALUE=DATE:20250912
DTSTAMP:20260423T071454
CREATED:20241106T191834Z
LAST-MODIFIED:20241112T134409Z
UID:7740-1757548800-1757635199@www.nbome.org
SUMMARY:Level 2-CE Score Release August 5-23
DESCRIPTION:Score release date for those who took their COMLEX-USA Level 2-CE exam between August 5 and August 23\, 2025.
URL:https://www.nbome.org/event/level-2-ce-score-release-august-5-23/
CATEGORIES:Score Release Date
ATTACH;FMTTYPE=image/png:https://www.nbome.org/app/uploads/2024/11/L2-Score-Release.png
END:VEVENT
BEGIN:VEVENT
DTSTART;VALUE=DATE:20250909
DTEND;VALUE=DATE:20250910
DTSTAMP:20260423T071454
CREATED:20241106T184041Z
LAST-MODIFIED:20241112T134425Z
UID:7707-1757376000-1757462399@www.nbome.org
SUMMARY:Level 1 Score Release July 30-August 27
DESCRIPTION:Score release date for those who took their COMLEX-USA Level 1 exam between July 30 and August 27\, 2025.
URL:https://www.nbome.org/event/level-1-score-release-july-30-august-27/
CATEGORIES:Score Release Date
ATTACH;FMTTYPE=image/png:https://www.nbome.org/app/uploads/2024/11/L1-Score-Release.png
END:VEVENT
BEGIN:VEVENT
DTSTART;VALUE=DATE:20250828
DTEND;VALUE=DATE:20250829
DTSTAMP:20260423T071454
CREATED:20241106T162225Z
LAST-MODIFIED:20241112T134440Z
UID:7684-1756339200-1756425599@www.nbome.org
SUMMARY:Level 3 Score Release June 23-July 19
DESCRIPTION:Score release date for those who took their COMLEX-USA Level 3 exam between June 23 and July 19\, 2025.
URL:https://www.nbome.org/event/level-3-score-release-june-23-july-19/
CATEGORIES:Score Release Date
ATTACH;FMTTYPE=image/png:https://www.nbome.org/app/uploads/2024/11/L3-Score-Release.png
END:VEVENT
BEGIN:VEVENT
DTSTART;VALUE=DATE:20250826
DTEND;VALUE=DATE:20250827
DTSTAMP:20260423T071454
CREATED:20241106T191756Z
LAST-MODIFIED:20241112T134455Z
UID:7739-1756166400-1756252799@www.nbome.org
SUMMARY:Level 2-CE Score Release July 17-August 4
DESCRIPTION:Score release date for those who took their COMLEX-USA Level 2-CE exam between July 17 and August 4\, 2025.
URL:https://www.nbome.org/event/level-2-ce-score-release-july-17-august-4/
CATEGORIES:Score Release Date
ATTACH;FMTTYPE=image/png:https://www.nbome.org/app/uploads/2024/11/L2-Score-Release.png
END:VEVENT
BEGIN:VEVENT
DTSTART;VALUE=DATE:20250814
DTEND;VALUE=DATE:20250815
DTSTAMP:20260423T071454
CREATED:20241106T191703Z
LAST-MODIFIED:20241112T134507Z
UID:7738-1755129600-1755215999@www.nbome.org
SUMMARY:Level 2-CE Score Release June 28-July 16
DESCRIPTION:Score release date for those who took their COMLEX-USA Level 2-CE exam between June 28 and July 16\, 2025.
URL:https://www.nbome.org/event/level-2-ce-score-release-june-28-july-16/
CATEGORIES:Score Release Date
ATTACH;FMTTYPE=image/png:https://www.nbome.org/app/uploads/2024/11/L2-Score-Release.png
END:VEVENT
BEGIN:VEVENT
DTSTART;VALUE=DATE:20250812
DTEND;VALUE=DATE:20250813
DTSTAMP:20260423T071454
CREATED:20241106T183944Z
LAST-MODIFIED:20241112T134523Z
UID:7706-1754956800-1755043199@www.nbome.org
SUMMARY:Level 1 Score Release June 28-July 29
DESCRIPTION:Score release date for those who took their COMLEX-USA Level 1 exam between June 28 and July 29\, 2025.
URL:https://www.nbome.org/event/level-1-score-release-june-28-july-29/
CATEGORIES:Score Release Date
ATTACH;FMTTYPE=image/png:https://www.nbome.org/app/uploads/2024/11/L1-Score-Release.png
END:VEVENT
BEGIN:VEVENT
DTSTART;VALUE=DATE:20250805
DTEND;VALUE=DATE:20250806
DTSTAMP:20260423T071454
CREATED:20241106T191408Z
LAST-MODIFIED:20241112T134535Z
UID:7715-1754352000-1754438399@www.nbome.org
SUMMARY:Level 2-CE Score Release June 4-27
DESCRIPTION:Score release date for those who took their COMLEX-USA Level 2-CE exam between June 4 and June 27\, 2025.
URL:https://www.nbome.org/event/level-2-ce-score-release-june-4-27/
CATEGORIES:Score Release Date
ATTACH;FMTTYPE=image/png:https://www.nbome.org/app/uploads/2024/11/L2-Score-Release.png
END:VEVENT
BEGIN:VEVENT
DTSTART;VALUE=DATE:20250724
DTEND;VALUE=DATE:20250725
DTSTAMP:20260423T071454
CREATED:20241106T162118Z
LAST-MODIFIED:20241112T134547Z
UID:7683-1753315200-1753401599@www.nbome.org
SUMMARY:Level 3 Score Release May 19-June 7
DESCRIPTION:Score release date for those who took their COMLEX-USA Level 3 exam between May 19 and June 7\, 2025.
URL:https://www.nbome.org/event/level-3-score-release-may-19-june-7/
CATEGORIES:Score Release Date
ATTACH;FMTTYPE=image/png:https://www.nbome.org/app/uploads/2024/11/L3-Score-Release.png
END:VEVENT
BEGIN:VEVENT
DTSTART;VALUE=DATE:20250717
DTEND;VALUE=DATE:20250718
DTSTAMP:20260423T071454
CREATED:20241106T183852Z
LAST-MODIFIED:20241112T134559Z
UID:7705-1752710400-1752796799@www.nbome.org
SUMMARY:Level 1 Score Release June 14-27
DESCRIPTION:Score release date for those who took their COMLEX-USA Level 1 exam between June 14 and June 27\, 2025.
URL:https://www.nbome.org/event/level-1-score-release-june-14-27/
CATEGORIES:Score Release Date
ATTACH;FMTTYPE=image/png:https://www.nbome.org/app/uploads/2024/11/L1-Score-Release.png
END:VEVENT
BEGIN:VEVENT
DTSTART;VALUE=DATE:20250708
DTEND;VALUE=DATE:20250709
DTSTAMP:20260423T071454
CREATED:20241106T183218Z
LAST-MODIFIED:20241112T134611Z
UID:7704-1751932800-1752019199@www.nbome.org
SUMMARY:Level 1 Score Release June 1-13
DESCRIPTION:Score release date for those who took their COMLEX-USA Level 1 exam between June 1 and June 13\, 2025.
URL:https://www.nbome.org/event/level-1-score-release-june-1-13/
CATEGORIES:Score Release Date
ATTACH;FMTTYPE=image/png:https://www.nbome.org/app/uploads/2024/11/L1-Score-Release.png
END:VEVENT
BEGIN:VEVENT
DTSTART;VALUE=DATE:20250626
DTEND;VALUE=DATE:20250627
DTSTAMP:20260423T071454
CREATED:20241106T183129Z
LAST-MODIFIED:20241112T134624Z
UID:7703-1750896000-1750982399@www.nbome.org
SUMMARY:Level 1 Score Release May 7-31
DESCRIPTION:Score release date for those who took their COMLEX-USA Level 1 exam between May 7 and May 31\, 2025.
URL:https://www.nbome.org/event/level-1-score-release-may-7-31/
CATEGORIES:Score Release Date
ATTACH;FMTTYPE=image/png:https://www.nbome.org/app/uploads/2024/11/L1-Score-Release.png
END:VEVENT
BEGIN:VEVENT
DTSTART;VALUE=DATE:20250612
DTEND;VALUE=DATE:20250613
DTSTAMP:20260423T071454
CREATED:20241106T162017Z
LAST-MODIFIED:20241112T134637Z
UID:7682-1749686400-1749772799@www.nbome.org
SUMMARY:Level 3 Score Release April 7-May 3
DESCRIPTION:Score release date for those who took their COMLEX-USA Level 3 exam between April 7 and May 3\, 2025.
URL:https://www.nbome.org/event/level-3-score-release-april-7-may-3/
CATEGORIES:Score Release Date
ATTACH;FMTTYPE=image/png:https://www.nbome.org/app/uploads/2024/11/L3-Score-Release.png
END:VEVENT
BEGIN:VEVENT
DTSTART;VALUE=DATE:20250515
DTEND;VALUE=DATE:20250516
DTSTAMP:20260423T071454
CREATED:20241106T161923Z
LAST-MODIFIED:20241112T134614Z
UID:7681-1747267200-1747353599@www.nbome.org
SUMMARY:Level 3 Score Release March 3-22
DESCRIPTION:Score release date for those who took their COMLEX-USA Level 3 exam between March 3 and March 22\, 2025.
URL:https://www.nbome.org/event/level-3-score-release-march-3-22/
CATEGORIES:Score Release Date
ATTACH;FMTTYPE=image/png:https://www.nbome.org/app/uploads/2024/11/L3-Score-Release.png
END:VEVENT
BEGIN:VEVENT
DTSTART;VALUE=DATE:20250506
DTEND;VALUE=DATE:20250507
DTSTAMP:20260423T071454
CREATED:20241106T160945Z
LAST-MODIFIED:20241112T134558Z
UID:7669-1746489600-1746575999@www.nbome.org
SUMMARY:Level 2-CE Score Release March 16-April 25
DESCRIPTION:Score release date for those who took their COMLEX-USA Level 2-CE exam between March 16 and April 25\, 2025.
URL:https://www.nbome.org/event/level-2-ce-score-release-march-16-april-25/
CATEGORIES:Score Release Date
ATTACH;FMTTYPE=image/png:https://www.nbome.org/app/uploads/2024/11/L2-Score-Release.png
END:VEVENT
BEGIN:VEVENT
DTSTART;VALUE=DATE:20250422
DTEND;VALUE=DATE:20250423
DTSTAMP:20260423T071454
CREATED:20250306T152045Z
LAST-MODIFIED:20250306T152045Z
UID:8859-1745280000-1745366399@www.nbome.org
SUMMARY:KCU-COM-Joplin & KCU-COM Visit
DESCRIPTION:NBOME leadership will meet with students to discuss updates to COMLEX-USA and other NBOME products and services and will answer questions and gain valuable feedback.
URL:https://www.nbome.org/event/kcu-com-joplin-kcu-com-visit/
CATEGORIES:College Visit
ATTACH;FMTTYPE=image/png:https://www.nbome.org/app/uploads/2025/03/KCUCOM.png
END:VEVENT
BEGIN:VEVENT
DTSTART;VALUE=DATE:20250422
DTEND;VALUE=DATE:20250423
DTSTAMP:20260423T071454
CREATED:20240910T151200Z
LAST-MODIFIED:20241112T134542Z
UID:1444-1745280000-1745366399@www.nbome.org
SUMMARY:Level 1 Score Release March 8-April 11
DESCRIPTION:Score release date for those who took their COMLEX-USA Level 1 exam between March 8 and April 11\, 2025.
URL:https://www.nbome.org/event/score-release-march-8-april-11/
CATEGORIES:Score Release Date
ATTACH;FMTTYPE=image/png:https://www.nbome.org/app/uploads/2024/11/L1-Score-Release.png
END:VEVENT
BEGIN:VEVENT
DTSTART;VALUE=DATE:20250403
DTEND;VALUE=DATE:20250404
DTSTAMP:20260423T071454
CREATED:20241106T161840Z
LAST-MODIFIED:20241112T134527Z
UID:7677-1743638400-1743724799@www.nbome.org
SUMMARY:Level 3 Score Release January 15-February 8
DESCRIPTION:Score release date for those who took their COMLEX-USA Level 3 exam between January 15 and February 8\, 2025.
URL:https://www.nbome.org/event/level-3-score-release-january-15-february-8/
CATEGORIES:Score Release Date
ATTACH;FMTTYPE=image/png:https://www.nbome.org/app/uploads/2024/11/L3-Score-Release.png
END:VEVENT
BEGIN:VEVENT
DTSTART;VALUE=DATE:20250327
DTEND;VALUE=DATE:20250328
DTSTAMP:20260423T071454
CREATED:20241106T160840Z
LAST-MODIFIED:20241112T134511Z
UID:7667-1743033600-1743119999@www.nbome.org
SUMMARY:Level 2-CE Score Release February 8-March 15
DESCRIPTION:Score release date for those who took their COMLEX-USA Level 2-CE exam between February 8 and March 15\, 2025.
URL:https://www.nbome.org/event/level-2-ce-score-release-february-8-march-15/
CATEGORIES:Score Release Date
ATTACH;FMTTYPE=image/png:https://www.nbome.org/app/uploads/2024/11/L2-Score-Release.png
END:VEVENT
BEGIN:VEVENT
DTSTART;VALUE=DATE:20250325
DTEND;VALUE=DATE:20250326
DTSTAMP:20260423T071454
CREATED:20240910T151014Z
LAST-MODIFIED:20250314T132507Z
UID:1442-1742860800-1742947199@www.nbome.org
SUMMARY:Level 1 Score Release February 1-March 7
DESCRIPTION:Score release date for those who took their COMLEX-USA Level 1 exam between February 1 and March 7\, 2025.
URL:https://www.nbome.org/event/score-release-february-1-march-7/
CATEGORIES:Score Release Date
ATTACH;FMTTYPE=image/png:https://www.nbome.org/app/uploads/2024/11/L1-Score-Release.png
END:VEVENT
BEGIN:VEVENT
DTSTART;VALUE=DATE:20250320
DTEND;VALUE=DATE:20250321
DTSTAMP:20260423T071454
CREATED:20250306T151846Z
LAST-MODIFIED:20250306T151846Z
UID:8856-1742428800-1742515199@www.nbome.org
SUMMARY:TouroCOM-Great Falls Visit
DESCRIPTION:NBOME leadership will meet with students to discuss updates to COMLEX-USA and other NBOME products and services and will answer questions and gain valuable feedback.
URL:https://www.nbome.org/event/tourocom-great-falls-visit/
CATEGORIES:College Visit
ATTACH;FMTTYPE=image/jpeg:https://www.nbome.org/app/uploads/2025/03/TouroCOM-Great-Falls.jpg
END:VEVENT
BEGIN:VEVENT
DTSTART;VALUE=DATE:20250320
DTEND;VALUE=DATE:20250321
DTSTAMP:20260423T071454
CREATED:20250306T151646Z
LAST-MODIFIED:20250306T151646Z
UID:8853-1742428800-1742515199@www.nbome.org
SUMMARY:LMU-DCOM & LMU-DCOM Knoxville Visit
DESCRIPTION:NBOME leadership will meet with students to discuss updates to COMLEX-USA and other NBOME products and services and will answer questions and gain valuable feedback.
URL:https://www.nbome.org/event/lmu-dcom-lmu-dcom-knoxville-visit/
CATEGORIES:College Visit
ATTACH;FMTTYPE=image/jpeg:https://www.nbome.org/app/uploads/2025/03/LMU-DCOM.jpg
END:VEVENT
BEGIN:VEVENT
DTSTART;VALUE=DATE:20250307
DTEND;VALUE=DATE:20250308
DTSTAMP:20260423T071454
CREATED:20250306T151244Z
LAST-MODIFIED:20250306T151244Z
UID:8848-1741305600-1741391999@www.nbome.org
SUMMARY:OCOM Visit
DESCRIPTION:NBOME leadership will meet with students to discuss updates to COMLEX-USA and other NBOME products and services and will answer questions and gain valuable feedback.
URL:https://www.nbome.org/event/ocom-visit/
CATEGORIES:College Visit
ATTACH;FMTTYPE=image/jpeg:https://www.nbome.org/app/uploads/2025/03/OCOM.jpg
END:VEVENT
BEGIN:VEVENT
DTSTART;VALUE=DATE:20250218
DTEND;VALUE=DATE:20250219
DTSTAMP:20260423T071454
CREATED:20241106T160356Z
LAST-MODIFIED:20241113T152612Z
UID:7665-1739836800-1739923199@www.nbome.org
SUMMARY:Level 2-CE Score Release December 31-February 7
DESCRIPTION:Score release date for those who took their COMLEX-USA Level 2-CE exam between December 31\, 2024 and February 7\, 2025.
URL:https://www.nbome.org/event/level-2-ce-score-release-december-31-february-7/
CATEGORIES:Score Release Date
ATTACH;FMTTYPE=image/png:https://www.nbome.org/app/uploads/2024/11/L2-Score-Release.png
END:VEVENT
BEGIN:VEVENT
DTSTART;VALUE=DATE:20250213
DTEND;VALUE=DATE:20250214
DTSTAMP:20260423T071454
CREATED:20241106T161434Z
LAST-MODIFIED:20241113T152556Z
UID:7673-1739404800-1739491199@www.nbome.org
SUMMARY:Level 3 Score Release December 2-21
DESCRIPTION:Score release date for those who took their COMLEX-USA Level 3 exam between December 2 and December 21\, 2024.
URL:https://www.nbome.org/event/level-3-score-release-december-2-21/
CATEGORIES:Score Release Date
ATTACH;FMTTYPE=image/png:https://www.nbome.org/app/uploads/2024/11/L3-Score-Release.png
END:VEVENT
BEGIN:VEVENT
DTSTART;VALUE=DATE:20250211
DTEND;VALUE=DATE:20250212
DTSTAMP:20260423T071454
CREATED:20240910T150927Z
LAST-MODIFIED:20241113T152543Z
UID:1440-1739232000-1739318399@www.nbome.org
SUMMARY:Level 1 Score Release December 31-January 31\, 2025
DESCRIPTION:Score release date for those who took their COMLEX-USA Level 1 exam between December 31\, 2024 and January 31\, 2025.
URL:https://www.nbome.org/event/score-release-december-31-january-31-2025/
CATEGORIES:Score Release Date
ATTACH;FMTTYPE=image/png:https://www.nbome.org/app/uploads/2024/11/L1-Score-Release.png
END:VEVENT
BEGIN:VEVENT
DTSTART;VALUE=DATE:20250116
DTEND;VALUE=DATE:20250117
DTSTAMP:20260423T071454
CREATED:20241106T155646Z
LAST-MODIFIED:20241112T134441Z
UID:7662-1736985600-1737071999@www.nbome.org
SUMMARY:Level 2-CE Score Release December 7-30
DESCRIPTION:Score release date for those who took their COMLEX-USA Level 2-CE exam between December 7 and December 30\, 2024.
URL:https://www.nbome.org/event/level-2-ce-score-release/
CATEGORIES:Score Release Date
ATTACH;FMTTYPE=image/png:https://www.nbome.org/app/uploads/2024/11/L2-Score-Release.png
END:VEVENT
END:VCALENDAR