BEGIN:VCALENDAR
VERSION:2.0
PRODID:-//NBOME - ECPv6.15.16.1//NONSGML v1.0//EN
CALSCALE:GREGORIAN
METHOD:PUBLISH
X-WR-CALNAME:NBOME
X-ORIGINAL-URL:https://www.nbome.org
X-WR-CALDESC:Events for NBOME
REFRESH-INTERVAL;VALUE=DURATION:PT1H
X-Robots-Tag:noindex
X-PUBLISHED-TTL:PT1H
BEGIN:VTIMEZONE
TZID:America/Chicago
BEGIN:DAYLIGHT
TZOFFSETFROM:-0600
TZOFFSETTO:-0500
TZNAME:CDT
DTSTART:20230312T080000
END:DAYLIGHT
BEGIN:STANDARD
TZOFFSETFROM:-0500
TZOFFSETTO:-0600
TZNAME:CST
DTSTART:20231105T070000
END:STANDARD
BEGIN:DAYLIGHT
TZOFFSETFROM:-0600
TZOFFSETTO:-0500
TZNAME:CDT
DTSTART:20240310T080000
END:DAYLIGHT
BEGIN:STANDARD
TZOFFSETFROM:-0500
TZOFFSETTO:-0600
TZNAME:CST
DTSTART:20241103T070000
END:STANDARD
BEGIN:DAYLIGHT
TZOFFSETFROM:-0600
TZOFFSETTO:-0500
TZNAME:CDT
DTSTART:20250309T080000
END:DAYLIGHT
BEGIN:STANDARD
TZOFFSETFROM:-0500
TZOFFSETTO:-0600
TZNAME:CST
DTSTART:20251102T070000
END:STANDARD
BEGIN:DAYLIGHT
TZOFFSETFROM:-0600
TZOFFSETTO:-0500
TZNAME:CDT
DTSTART:20260308T080000
END:DAYLIGHT
BEGIN:STANDARD
TZOFFSETFROM:-0500
TZOFFSETTO:-0600
TZNAME:CST
DTSTART:20261101T070000
END:STANDARD
END:VTIMEZONE
BEGIN:VTIMEZONE
TZID:UTC
BEGIN:STANDARD
TZOFFSETFROM:+0000
TZOFFSETTO:+0000
TZNAME:UTC
DTSTART:20230101T000000
END:STANDARD
END:VTIMEZONE
BEGIN:VEVENT
DTSTART;VALUE=DATE:20250218
DTEND;VALUE=DATE:20250219
DTSTAMP:20260422T205044
CREATED:20241106T160356Z
LAST-MODIFIED:20241113T152612Z
UID:7665-1739836800-1739923199@www.nbome.org
SUMMARY:Level 2-CE Score Release December 31-February 7
DESCRIPTION:Score release date for those who took their COMLEX-USA Level 2-CE exam between December 31\, 2024 and February 7\, 2025.
URL:https://www.nbome.org/event/level-2-ce-score-release-december-31-february-7/
CATEGORIES:Score Release Date
ATTACH;FMTTYPE=image/png:https://www.nbome.org/app/uploads/2024/11/L2-Score-Release.png
END:VEVENT
BEGIN:VEVENT
DTSTART;VALUE=DATE:20250213
DTEND;VALUE=DATE:20250214
DTSTAMP:20260422T205044
CREATED:20241106T161434Z
LAST-MODIFIED:20241113T152556Z
UID:7673-1739404800-1739491199@www.nbome.org
SUMMARY:Level 3 Score Release December 2-21
DESCRIPTION:Score release date for those who took their COMLEX-USA Level 3 exam between December 2 and December 21\, 2024.
URL:https://www.nbome.org/event/level-3-score-release-december-2-21/
CATEGORIES:Score Release Date
ATTACH;FMTTYPE=image/png:https://www.nbome.org/app/uploads/2024/11/L3-Score-Release.png
END:VEVENT
BEGIN:VEVENT
DTSTART;VALUE=DATE:20250211
DTEND;VALUE=DATE:20250212
DTSTAMP:20260422T205044
CREATED:20240910T150927Z
LAST-MODIFIED:20241113T152543Z
UID:1440-1739232000-1739318399@www.nbome.org
SUMMARY:Level 1 Score Release December 31-January 31\, 2025
DESCRIPTION:Score release date for those who took their COMLEX-USA Level 1 exam between December 31\, 2024 and January 31\, 2025.
URL:https://www.nbome.org/event/score-release-december-31-january-31-2025/
CATEGORIES:Score Release Date
ATTACH;FMTTYPE=image/png:https://www.nbome.org/app/uploads/2024/11/L1-Score-Release.png
END:VEVENT
BEGIN:VEVENT
DTSTART;VALUE=DATE:20250116
DTEND;VALUE=DATE:20250117
DTSTAMP:20260422T205044
CREATED:20241106T155646Z
LAST-MODIFIED:20241112T134441Z
UID:7662-1736985600-1737071999@www.nbome.org
SUMMARY:Level 2-CE Score Release December 7-30
DESCRIPTION:Score release date for those who took their COMLEX-USA Level 2-CE exam between December 7 and December 30\, 2024.
URL:https://www.nbome.org/event/level-2-ce-score-release/
CATEGORIES:Score Release Date
ATTACH;FMTTYPE=image/png:https://www.nbome.org/app/uploads/2024/11/L2-Score-Release.png
END:VEVENT
BEGIN:VEVENT
DTSTART;VALUE=DATE:20250114
DTEND;VALUE=DATE:20250115
DTSTAMP:20260422T205044
CREATED:20240910T150839Z
LAST-MODIFIED:20241112T134353Z
UID:1438-1736812800-1736899199@www.nbome.org
SUMMARY:Level 1 Score Release November 30-December 30
DESCRIPTION:Score release date for those who took their COMLEX-USA Level 1 exam between November 30 and December 30\, 2024.
URL:https://www.nbome.org/event/score-release-november-30-december-30/
CATEGORIES:Score Release Date
ATTACH;FMTTYPE=image/png:https://www.nbome.org/app/uploads/2024/11/L1-Score-Release.png
END:VEVENT
BEGIN:VEVENT
DTSTART;VALUE=DATE:20250109
DTEND;VALUE=DATE:20250110
DTSTAMP:20260422T205044
CREATED:20241106T161337Z
LAST-MODIFIED:20241112T134330Z
UID:7672-1736380800-1736467199@www.nbome.org
SUMMARY:Level 3 Score Release October 28-November 16
DESCRIPTION:Score release date for those who took their COMLEX-USA Level 3 exam between October 28 and November 16\, 2024.
URL:https://www.nbome.org/event/level-3-score-release-october-28-november-16/
CATEGORIES:Score Release Date
ATTACH;FMTTYPE=image/png:https://www.nbome.org/app/uploads/2024/11/L3-Score-Release.png
END:VEVENT
BEGIN:VEVENT
DTSTART;VALUE=DATE:20250109
DTEND;VALUE=DATE:20250110
DTSTAMP:20260422T205044
CREATED:20240905T211649Z
LAST-MODIFIED:20240905T211649Z
UID:1045-1736380800-1736467199@www.nbome.org
SUMMARY:NBOME Visits NSU-KPCOM | Virtual
DESCRIPTION:NBOME leadership will meet virtually with second-year DO students to give updates on COMLEX-USA and other assessments and to answer questions directly.
URL:https://www.nbome.org/event/nbome-visits-nsu-kpcom-virtual/
CATEGORIES:College Visit,Virtual
ATTACH;FMTTYPE=image/jpeg:https://www.nbome.org/app/uploads/2024/09/Event-NSU-KPCOM.jpg
END:VEVENT
BEGIN:VEVENT
DTSTART;VALUE=DATE:20241217
DTEND;VALUE=DATE:20241218
DTSTAMP:20260422T205044
CREATED:20241106T155527Z
LAST-MODIFIED:20241112T135103Z
UID:7660-1734393600-1734479999@www.nbome.org
SUMMARY:Level 2-CE Score Release November 16-December 6
DESCRIPTION:Score release date for those who took their COMLEX-USA Level 2-CE exam between November 16 and December 6\, 2024.
URL:https://www.nbome.org/event/level-2-ce-score-releasenovember-16-december-6/
CATEGORIES:Score Release Date
ATTACH;FMTTYPE=image/png:https://www.nbome.org/app/uploads/2024/11/L2-Score-Release.png
END:VEVENT
BEGIN:VEVENT
DTSTART;VALUE=DATE:20241216
DTEND;VALUE=DATE:20241217
DTSTAMP:20260422T205044
CREATED:20241205T164124Z
LAST-MODIFIED:20241205T164149Z
UID:7996-1734307200-1734393599@www.nbome.org
SUMMARY:NBOME Visits WesternU/COMP
DESCRIPTION:NBOME leadership will meet with students at WesternU/COMP to discuss updates to COMLEX-USA and other NBOME products and services\, and will answer questions and gain valuable feedback.
URL:https://www.nbome.org/event/nbome-visits-westernu-comp/
LOCATION:Western University College of Ostoepathic Medicine of the Pacific\, 309 E 2nd St\, Pomona\, California\, 91766
CATEGORIES:College Visit
ATTACH;FMTTYPE=image/jpeg:https://www.nbome.org/app/uploads/2024/12/Western-U-COMP.jpg
END:VEVENT
BEGIN:VEVENT
DTSTART;TZID=UTC:20241211T080000
DTEND;TZID=UTC:20241211T170000
DTSTAMP:20260422T205044
CREATED:20240905T211422Z
LAST-MODIFIED:20240905T211422Z
UID:1041-1733904000-1733936400@www.nbome.org
SUMMARY:NBOME Visits SHSU-COM
DESCRIPTION:NBOME leadership will meet with students\, student leadership\, COM leadership\, and faculty to give updates on COMLEX-USA and other assessments\, and answer questions directly.
URL:https://www.nbome.org/event/nbome-visits-shsu-com/
LOCATION:Sam Houston State University College of Osteopathic Medicine (SHSU-COM)\, 925 City Central Ave\, Conroe\, TX\, 77304\, United States
CATEGORIES:College Visit
ATTACH;FMTTYPE=image/jpeg:https://www.nbome.org/app/uploads/2024/09/Event-SHSU-COM.jpg
END:VEVENT
BEGIN:VEVENT
DTSTART;VALUE=DATE:20241210
DTEND;VALUE=DATE:20241211
DTSTAMP:20260422T205044
CREATED:20240910T150604Z
LAST-MODIFIED:20241112T134251Z
UID:1436-1733788800-1733875199@www.nbome.org
SUMMARY:Level 1 Score Release October 28-November 29
DESCRIPTION:Score release date for those who took their COMLEX-USA Level 1 exam between October 28 and November 29\, 2024.
URL:https://www.nbome.org/event/score-release-october-28-november-29/
CATEGORIES:Score Release Date
ATTACH;FMTTYPE=image/png:https://www.nbome.org/app/uploads/2024/11/L1-Score-Release.png
END:VEVENT
BEGIN:VEVENT
DTSTART;VALUE=DATE:20241126
DTEND;VALUE=DATE:20241127
DTSTAMP:20260422T205044
CREATED:20241106T155347Z
LAST-MODIFIED:20241112T134231Z
UID:7658-1732579200-1732665599@www.nbome.org
SUMMARY:Level 2-CE Score Release October 14-November 15
DESCRIPTION:Score release date for those who took their COMLEX-USA Level 2-CE exam between October 14 and November 15\, 2024.
URL:https://www.nbome.org/event/level-2-ce-score-release-october-14-november-15/
CATEGORIES:Score Release Date
ATTACH;FMTTYPE=image/png:https://www.nbome.org/app/uploads/2024/11/L2-Score-Release.png
END:VEVENT
BEGIN:VEVENT
DTSTART;VALUE=DATE:20241121
DTEND;VALUE=DATE:20241122
DTSTAMP:20260422T205044
CREATED:20241106T161253Z
LAST-MODIFIED:20241112T134155Z
UID:7676-1732147200-1732233599@www.nbome.org
SUMMARY:Level 3 Score Release September 16-October 10
DESCRIPTION:Score release date for those who took their COMLEX-USA Level 3 exam between September 16 and October 10\, 2024.
URL:https://www.nbome.org/event/level-3-score-release-september-16-october-10/
CATEGORIES:Score Release Date
ATTACH;FMTTYPE=image/png:https://www.nbome.org/app/uploads/2024/11/L3-Score-Release.png
END:VEVENT
BEGIN:VEVENT
DTSTART;VALUE=DATE:20241114
DTEND;VALUE=DATE:20241115
DTSTAMP:20260422T205044
CREATED:20241113T155638Z
LAST-MODIFIED:20241113T155638Z
UID:7900-1731542400-1731628799@www.nbome.org
SUMMARY:NBOME Visits LECOM | Virtual
DESCRIPTION:Leadership at the NBOME will present to LECOM students\, interns\, residents\, fellows\, and faculty on important updates to COMLEX-USA\, C3DO\, and more\, and will answer questions and gain important feedback.
URL:https://www.nbome.org/event/nbome-visits-lecom-virtual/
LOCATION:Lake Erie College of Osteopathic Medicine\, 1858 W Grandview Blvd\, Erie\, PA\, 16509\, United States
CATEGORIES:College Visit,Virtual
ATTACH;FMTTYPE=image/jpeg:https://www.nbome.org/app/uploads/2024/11/LECOM-Erie.jpg
END:VEVENT
BEGIN:VEVENT
DTSTART;VALUE=DATE:20241107
DTEND;VALUE=DATE:20241108
DTSTAMP:20260422T205044
CREATED:20240910T150416Z
LAST-MODIFIED:20241106T153254Z
UID:1434-1730937600-1731023999@www.nbome.org
SUMMARY:Level 1 Score Release September 28-October 27
DESCRIPTION:Score release date for those who took their COMLEX-USA Level 1 exam between September 28 and October 27\, 2024.
URL:https://www.nbome.org/event/score-release-september-28-october-27/
CATEGORIES:Score Release Date
ATTACH;FMTTYPE=image/jpeg:https://www.nbome.org/app/uploads/2024/09/Score-Release-Date-scaled.jpg
END:VEVENT
BEGIN:VEVENT
DTSTART;VALUE=DATE:20241024
DTEND;VALUE=DATE:20241025
DTSTAMP:20260422T205044
CREATED:20241106T155248Z
LAST-MODIFIED:20241112T134712Z
UID:7656-1729728000-1729814399@www.nbome.org
SUMMARY:Level 2-CE Score Release September 13-October 10
DESCRIPTION:Score release date for those who took their COMLEX-USA Level 2-CE exam between September 13 and October 10\, 2024.
URL:https://www.nbome.org/event/level-2-ce-score-release-september-13-october-10/
CATEGORIES:Score Release Date
ATTACH;FMTTYPE=image/png:https://www.nbome.org/app/uploads/2024/11/L2-Score-Release.png
END:VEVENT
BEGIN:VEVENT
DTSTART;VALUE=DATE:20241018
DTEND;VALUE=DATE:20241019
DTSTAMP:20260422T205044
CREATED:20240905T211057Z
LAST-MODIFIED:20240905T211057Z
UID:1037-1729209600-1729295999@www.nbome.org
SUMMARY:NBOME Visits CUSOM
DESCRIPTION:NBOME leadership will meet with CUSOM leadership and members of student government to provide updates on COMLEX-USA and other assessments\, and answer questions directly.
URL:https://www.nbome.org/event/nbome-visits-cusom/
LOCATION:Campbell University Jerry M. Wallace School of Osteopathic Medicine (CUSOM)\, 4350 US Hwy 421\, Lillington\, NC\, 27546\, United States
CATEGORIES:College Visit
ATTACH;FMTTYPE=image/jpeg:https://www.nbome.org/app/uploads/2024/09/Event-CUSOM.jpg
END:VEVENT
BEGIN:VEVENT
DTSTART;VALUE=DATE:20241010
DTEND;VALUE=DATE:20241011
DTSTAMP:20260422T205044
CREATED:20240910T150148Z
LAST-MODIFIED:20241106T152939Z
UID:1421-1728518400-1728604799@www.nbome.org
SUMMARY:Level 3 Score Release August 5-31
DESCRIPTION:Score release date for those who took their COMLEX-USA Level 3 exam between August 5 and August 31\, 2024.
URL:https://www.nbome.org/event/score-release-august-28-september-27/
CATEGORIES:Score Release Date
ATTACH;FMTTYPE=image/jpeg:https://www.nbome.org/app/uploads/2024/09/Score-Release-Date-scaled.jpg
END:VEVENT
BEGIN:VEVENT
DTSTART;VALUE=DATE:20241003
DTEND;VALUE=DATE:20241005
DTSTAMP:20260422T205044
CREATED:20240905T210839Z
LAST-MODIFIED:20240905T210839Z
UID:1033-1727913600-1728086399@www.nbome.org
SUMMARY:NBOME Visits MSUCOM
DESCRIPTION:
URL:https://www.nbome.org/event/nbome-visits-msucom/
LOCATION:Michigan State University College of Osteopathic Medicine (MSUCOM)\, 44575 Garfield Road\, Clinton Twp\, MI\, 48038\, United States
CATEGORIES:College Visit
ATTACH;FMTTYPE=image/jpeg:https://www.nbome.org/app/uploads/2024/09/Event-MSUCOM-Macomb.jpg
END:VEVENT
BEGIN:VEVENT
DTSTART;VALUE=DATE:20240912
DTEND;VALUE=DATE:20240913
DTSTAMP:20260422T205044
CREATED:20240905T201712Z
LAST-MODIFIED:20240905T201712Z
UID:1013-1726099200-1726185599@www.nbome.org
SUMMARY:NBOME Visits BUCOM
DESCRIPTION:NBOME leadership will visit with BUCOM students\, faculty\, and staff to provide updates on COMLEX-USA and other assessments\, and answer questions directly. \n 
URL:https://www.nbome.org/event/bucom/
LOCATION:Baptist University College of Osteopathic Medicine\, 1003 Monroe Ave.\, Memphis\, TN\, 38104\, United States
CATEGORIES:College Visit
ATTACH;FMTTYPE=image/jpeg:https://www.nbome.org/app/uploads/2024/09/Event-BUCOM-Visit.jpg
END:VEVENT
END:VCALENDAR