BEGIN:VCALENDAR
VERSION:2.0
PRODID:-//NBOME - ECPv6.15.16.1//NONSGML v1.0//EN
CALSCALE:GREGORIAN
METHOD:PUBLISH
X-WR-CALNAME:NBOME
X-ORIGINAL-URL:https://www.nbome.org
X-WR-CALDESC:Events for NBOME
REFRESH-INTERVAL;VALUE=DURATION:PT1H
X-Robots-Tag:noindex
X-PUBLISHED-TTL:PT1H
BEGIN:VTIMEZONE
TZID:America/New_York
BEGIN:DAYLIGHT
TZOFFSETFROM:-0500
TZOFFSETTO:-0400
TZNAME:EDT
DTSTART:20240310T070000
END:DAYLIGHT
BEGIN:STANDARD
TZOFFSETFROM:-0400
TZOFFSETTO:-0500
TZNAME:EST
DTSTART:20241103T060000
END:STANDARD
BEGIN:DAYLIGHT
TZOFFSETFROM:-0500
TZOFFSETTO:-0400
TZNAME:EDT
DTSTART:20250309T070000
END:DAYLIGHT
BEGIN:STANDARD
TZOFFSETFROM:-0400
TZOFFSETTO:-0500
TZNAME:EST
DTSTART:20251102T060000
END:STANDARD
BEGIN:DAYLIGHT
TZOFFSETFROM:-0500
TZOFFSETTO:-0400
TZNAME:EDT
DTSTART:20260308T070000
END:DAYLIGHT
BEGIN:STANDARD
TZOFFSETFROM:-0400
TZOFFSETTO:-0500
TZNAME:EST
DTSTART:20261101T060000
END:STANDARD
BEGIN:DAYLIGHT
TZOFFSETFROM:-0500
TZOFFSETTO:-0400
TZNAME:EDT
DTSTART:20270314T070000
END:DAYLIGHT
BEGIN:STANDARD
TZOFFSETFROM:-0400
TZOFFSETTO:-0500
TZNAME:EST
DTSTART:20271107T060000
END:STANDARD
END:VTIMEZONE
BEGIN:VTIMEZONE
TZID:America/Chicago
BEGIN:DAYLIGHT
TZOFFSETFROM:-0600
TZOFFSETTO:-0500
TZNAME:CDT
DTSTART:20240310T080000
END:DAYLIGHT
BEGIN:STANDARD
TZOFFSETFROM:-0500
TZOFFSETTO:-0600
TZNAME:CST
DTSTART:20241103T070000
END:STANDARD
BEGIN:DAYLIGHT
TZOFFSETFROM:-0600
TZOFFSETTO:-0500
TZNAME:CDT
DTSTART:20250309T080000
END:DAYLIGHT
BEGIN:STANDARD
TZOFFSETFROM:-0500
TZOFFSETTO:-0600
TZNAME:CST
DTSTART:20251102T070000
END:STANDARD
BEGIN:DAYLIGHT
TZOFFSETFROM:-0600
TZOFFSETTO:-0500
TZNAME:CDT
DTSTART:20260308T080000
END:DAYLIGHT
BEGIN:STANDARD
TZOFFSETFROM:-0500
TZOFFSETTO:-0600
TZNAME:CST
DTSTART:20261101T070000
END:STANDARD
BEGIN:DAYLIGHT
TZOFFSETFROM:-0600
TZOFFSETTO:-0500
TZNAME:CDT
DTSTART:20270314T080000
END:DAYLIGHT
BEGIN:STANDARD
TZOFFSETFROM:-0500
TZOFFSETTO:-0600
TZNAME:CST
DTSTART:20271107T070000
END:STANDARD
END:VTIMEZONE
BEGIN:VEVENT
DTSTART;VALUE=DATE:20260311
DTEND;VALUE=DATE:20260312
DTSTAMP:20260423T041219
CREATED:20251223T142111Z
LAST-MODIFIED:20251223T142121Z
UID:10684-1773187200-1773273599@www.nbome.org
SUMMARY:ATSU-SOMA Visit
DESCRIPTION:60-mins each
URL:https://www.nbome.org/event/atsu-soma/
CATEGORIES:College Visit
ATTACH;FMTTYPE=image/jpeg:https://www.nbome.org/app/uploads/2025/12/ATSU-SOMA.jpg
END:VEVENT
BEGIN:VEVENT
DTSTART;VALUE=DATE:20260224
DTEND;VALUE=DATE:20260225
DTSTAMP:20260423T041219
CREATED:20241106T192612Z
LAST-MODIFIED:20241112T134016Z
UID:7720-1771891200-1771977599@www.nbome.org
SUMMARY:Level 2-CE Score Release January 15-February 13
DESCRIPTION:Score release date for those who took their COMLEX-USA Level 2-CE exam between January 15 and February 13\, 2026.
URL:https://www.nbome.org/event/level-2-ce-score-release-january-15-february-13/
CATEGORIES:Score Release Date
ATTACH;FMTTYPE=image/png:https://www.nbome.org/app/uploads/2024/11/L2-Score-Release.png
END:VEVENT
BEGIN:VEVENT
DTSTART;VALUE=DATE:20260212
DTEND;VALUE=DATE:20260213
DTSTAMP:20260423T041219
CREATED:20241106T162700Z
LAST-MODIFIED:20241112T134031Z
UID:7688-1770854400-1770940799@www.nbome.org
SUMMARY:Level 3 Score Release December 1-20
DESCRIPTION:Score release date for those who took their COMLEX-USA Level 3 exam between December 1 and December 20\, 2025.
URL:https://www.nbome.org/event/level-3-score-release-december-1-20/
CATEGORIES:Score Release Date
ATTACH;FMTTYPE=image/png:https://www.nbome.org/app/uploads/2024/11/L3-Score-Release.png
END:VEVENT
BEGIN:VEVENT
DTSTART;VALUE=DATE:20260210
DTEND;VALUE=DATE:20260211
DTSTAMP:20260423T041219
CREATED:20241106T184538Z
LAST-MODIFIED:20241112T134048Z
UID:7712-1770681600-1770767999@www.nbome.org
SUMMARY:Level 1 Score Release December 31-January 30
DESCRIPTION:Score release date for those who took their COMLEX-USA Level 1 exam between December 31\, 2025 and January 30\, 2026.
URL:https://www.nbome.org/event/level-1-score-release-december-31-january-30/
CATEGORIES:Score Release Date
ATTACH;FMTTYPE=image/png:https://www.nbome.org/app/uploads/2024/11/L1-Score-Release.png
END:VEVENT
BEGIN:VEVENT
DTSTART;VALUE=DATE:20260127
DTEND;VALUE=DATE:20260128
DTSTAMP:20260423T041219
CREATED:20241106T192529Z
LAST-MODIFIED:20241112T134101Z
UID:7719-1769472000-1769558399@www.nbome.org
SUMMARY:Level 2-CE Score Release December 13-January 14
DESCRIPTION:Score release date for those who took their COMLEX-USA Level 2-CE exam between December 13\, 2025 and January 14\, 2026.
URL:https://www.nbome.org/event/level-2-ce-score-release-december-13-january-14/
CATEGORIES:Score Release Date
ATTACH;FMTTYPE=image/png:https://www.nbome.org/app/uploads/2024/11/L2-Score-Release.png
END:VEVENT
BEGIN:VEVENT
DTSTART;VALUE=DATE:20260122
DTEND;VALUE=DATE:20260123
DTSTAMP:20260423T041219
CREATED:20251223T141830Z
LAST-MODIFIED:20251223T142129Z
UID:10681-1769040000-1769126399@www.nbome.org
SUMMARY:TUCOM Visit
DESCRIPTION:60 minutes with faculty and 60 minutes with students.
URL:https://www.nbome.org/event/tucom/
CATEGORIES:College Visit
ATTACH;FMTTYPE=image/jpeg:https://www.nbome.org/app/uploads/2025/12/TUCOM.jpg
END:VEVENT
BEGIN:VEVENT
DTSTART;VALUE=DATE:20260113
DTEND;VALUE=DATE:20260114
DTSTAMP:20260423T041219
CREATED:20251223T141650Z
LAST-MODIFIED:20251223T142139Z
UID:10678-1768262400-1768348799@www.nbome.org
SUMMARY:WCUCOM Visit
DESCRIPTION:60 minutes with faculty and 60 minutes with students.
URL:https://www.nbome.org/event/wcucom/
CATEGORIES:College Visit
ATTACH;FMTTYPE=image/jpeg:https://www.nbome.org/app/uploads/2025/12/WCUCOM.jpg
END:VEVENT
BEGIN:VEVENT
DTSTART;VALUE=DATE:20260113
DTEND;VALUE=DATE:20260114
DTSTAMP:20260423T041219
CREATED:20241106T184439Z
LAST-MODIFIED:20241112T134114Z
UID:7711-1768262400-1768348799@www.nbome.org
SUMMARY:Level 1 Score Release November 29-December 30
DESCRIPTION:Score release date for those who took their COMLEX-USA Level 1 exam between November 29 and December 30\, 2025.
URL:https://www.nbome.org/event/level-1-score-release-november-29-december-30/
CATEGORIES:Score Release Date
ATTACH;FMTTYPE=image/png:https://www.nbome.org/app/uploads/2024/11/L1-Score-Release.png
END:VEVENT
BEGIN:VEVENT
DTSTART;VALUE=DATE:20260108
DTEND;VALUE=DATE:20260109
DTSTAMP:20260423T041219
CREATED:20251211T153749Z
LAST-MODIFIED:20251211T153749Z
UID:10527-1767830400-1767916799@www.nbome.org
SUMMARY:NSU-Florida Visit
DESCRIPTION:60 minutes with faculty and 60 minutes with students.
URL:https://www.nbome.org/event/nsu-florida-visit/
CATEGORIES:College Visit
ATTACH;FMTTYPE=image/jpeg:https://www.nbome.org/app/uploads/2025/12/NSU-Florida.jpg
END:VEVENT
BEGIN:VEVENT
DTSTART;VALUE=DATE:20260108
DTEND;VALUE=DATE:20260109
DTSTAMP:20260423T041219
CREATED:20241106T162609Z
LAST-MODIFIED:20241112T134129Z
UID:7687-1767830400-1767916799@www.nbome.org
SUMMARY:Level 3 Score Release October 27-November 15
DESCRIPTION:Score release date for those who took their COMLEX-USA Level 3 exam between October 27 and November 15\, 2025.
URL:https://www.nbome.org/event/level-3-score-release-october-27-november-15/
CATEGORIES:Score Release Date
ATTACH;FMTTYPE=image/png:https://www.nbome.org/app/uploads/2024/11/L3-Score-Release.png
END:VEVENT
BEGIN:VEVENT
DTSTART;VALUE=DATE:20251223
DTEND;VALUE=DATE:20251224
DTSTAMP:20260423T041219
CREATED:20241106T192415Z
LAST-MODIFIED:20241112T134153Z
UID:7718-1766448000-1766534399@www.nbome.org
SUMMARY:Level 2-CE Score Release November 13-December 12
DESCRIPTION:Score release date for those who took their COMLEX-USA Level 2-CE exam between November 13 and December 12\, 2025.
URL:https://www.nbome.org/event/level-2-ce-score-release-november-13-december-12/
CATEGORIES:Score Release Date
ATTACH;FMTTYPE=image/png:https://www.nbome.org/app/uploads/2024/11/L2-Score-Release.png
END:VEVENT
BEGIN:VEVENT
DTSTART;VALUE=DATE:20251209
DTEND;VALUE=DATE:20251210
DTSTAMP:20260423T041219
CREATED:20241106T184346Z
LAST-MODIFIED:20241112T134207Z
UID:7710-1765238400-1765324799@www.nbome.org
SUMMARY:Level 1 Score Release October 27-November 28
DESCRIPTION:Score release date for those who took their COMLEX-USA Level 1 exam between October 27 and November 28\, 2025.
URL:https://www.nbome.org/event/level-1-score-release-october-27-november-28/
CATEGORIES:Score Release Date
ATTACH;FMTTYPE=image/png:https://www.nbome.org/app/uploads/2024/11/L1-Score-Release.png
END:VEVENT
BEGIN:VEVENT
DTSTART;VALUE=DATE:20251203
DTEND;VALUE=DATE:20251204
DTSTAMP:20260423T041219
CREATED:20250930T160434Z
LAST-MODIFIED:20250930T160434Z
UID:10236-1764720000-1764806399@www.nbome.org
SUMMARY:Rowan-VirtuaSOM Visit
DESCRIPTION:60 minutes with faculty and 60 minutes with students.
URL:https://www.nbome.org/event/rowan-virtuasom-visit/
CATEGORIES:College Visit
ATTACH;FMTTYPE=image/jpeg:https://www.nbome.org/app/uploads/2025/09/rowan.jpg
END:VEVENT
BEGIN:VEVENT
DTSTART;VALUE=DATE:20251202
DTEND;VALUE=DATE:20251203
DTSTAMP:20260423T041219
CREATED:20250722T153509Z
LAST-MODIFIED:20251030T170848Z
UID:10084-1764633600-1764719999@www.nbome.org
SUMMARY:DUQCOM Visit
DESCRIPTION:60 minutes with faculty and 60 minutes with students.
URL:https://www.nbome.org/event/duqcom-visit/
CATEGORIES:College Visit
ATTACH;FMTTYPE=image/jpeg:https://www.nbome.org/app/uploads/2025/07/comfront-2022-slider.jpg
END:VEVENT
BEGIN:VEVENT
DTSTART;VALUE=DATE:20251125
DTEND;VALUE=DATE:20251126
DTSTAMP:20260423T041219
CREATED:20241106T192041Z
LAST-MODIFIED:20241112T134228Z
UID:7717-1764028800-1764115199@www.nbome.org
SUMMARY:Level 2-CE Score Release October 13-November 12
DESCRIPTION:Score release date for those who took their COMLEX-USA Level 2-CE exam between October 13 and November 12\, 2025.
URL:https://www.nbome.org/event/level-2-ce-score-release-october-13-november-12/
CATEGORIES:Score Release Date
ATTACH;FMTTYPE=image/png:https://www.nbome.org/app/uploads/2024/11/L2-Score-Release.png
END:VEVENT
BEGIN:VEVENT
DTSTART;VALUE=DATE:20251120
DTEND;VALUE=DATE:20251121
DTSTAMP:20260423T041219
CREATED:20241106T162518Z
LAST-MODIFIED:20241112T134242Z
UID:7686-1763596800-1763683199@www.nbome.org
SUMMARY:Level 3 Score Release September 15-October 11
DESCRIPTION:Score release date for those who took their COMLEX-USA Level 3 exam between September 15 and October 11\, 2025.
URL:https://www.nbome.org/event/level-3-score-release-september-15-october-11/
CATEGORIES:Score Release Date
ATTACH;FMTTYPE=image/png:https://www.nbome.org/app/uploads/2024/11/L3-Score-Release.png
END:VEVENT
BEGIN:VEVENT
DTSTART;VALUE=DATE:20251110
DTEND;VALUE=DATE:20251111
DTSTAMP:20260423T041219
CREATED:20251030T171041Z
LAST-MODIFIED:20251030T171041Z
UID:10302-1762732800-1762819199@www.nbome.org
SUMMARY:NYITCOM Visit
DESCRIPTION:60 minutes with faculty and 60 minutes with students.
URL:https://www.nbome.org/event/nyitcom-visit/
CATEGORIES:College Visit
ATTACH;FMTTYPE=image/jpeg:https://www.nbome.org/app/uploads/2025/10/NYITCOM_Locations_Arkansas_Thumb.jpg
END:VEVENT
BEGIN:VEVENT
DTSTART;VALUE=DATE:20251106
DTEND;VALUE=DATE:20251107
DTSTAMP:20260423T041219
CREATED:20241106T184248Z
LAST-MODIFIED:20241112T134255Z
UID:7709-1762387200-1762473599@www.nbome.org
SUMMARY:Level 1 Score Release September 27-October 26
DESCRIPTION:Score release date for those who took their COMLEX-USA Level 1 exam between September 27 and October 26\, 2025.
URL:https://www.nbome.org/event/level-1-score-release-september-27-october-26/
CATEGORIES:Score Release Date
ATTACH;FMTTYPE=image/png:https://www.nbome.org/app/uploads/2024/11/L1-Score-Release.png
END:VEVENT
BEGIN:VEVENT
DTSTART;VALUE=DATE:20251024
DTEND;VALUE=DATE:20251025
DTSTAMP:20260423T041219
CREATED:20250722T153351Z
LAST-MODIFIED:20250722T153351Z
UID:10081-1761264000-1761350399@www.nbome.org
SUMMARY:NoordaCOM Visit
DESCRIPTION:60 minutes with faculty and 60 minutes with students.
URL:https://www.nbome.org/event/noordacom-visit/
CATEGORIES:College Visit
ATTACH;FMTTYPE=image/png:https://www.nbome.org/app/uploads/2025/07/Noorda-COM_2_24.png
END:VEVENT
BEGIN:VEVENT
DTSTART;VALUE=DATE:20251023
DTEND;VALUE=DATE:20251024
DTSTAMP:20260423T041219
CREATED:20241106T192000Z
LAST-MODIFIED:20241112T134308Z
UID:7716-1761177600-1761263999@www.nbome.org
SUMMARY:Level 2-CE Score Release September 13-October 12
DESCRIPTION:Score release date for those who took their COMLEX-USA Level 2-CE exam between September 13 and October 12\, 2025.
URL:https://www.nbome.org/event/level-2-ce-score-release-september-13-october-12/
CATEGORIES:Score Release Date
ATTACH;FMTTYPE=image/png:https://www.nbome.org/app/uploads/2024/11/L2-Score-Release.png
END:VEVENT
BEGIN:VEVENT
DTSTART;VALUE=DATE:20251009
DTEND;VALUE=DATE:20251010
DTSTAMP:20260423T041219
CREATED:20241106T162417Z
LAST-MODIFIED:20241112T134323Z
UID:7685-1759968000-1760054399@www.nbome.org
SUMMARY:Level 3 Score Release August 4-30
DESCRIPTION:Score release date for those who took their COMLEX-USA Level 3 exam between August 4 and August 30\, 2025.
URL:https://www.nbome.org/event/level-3-score-release-august-4-30/
CATEGORIES:Score Release Date
ATTACH;FMTTYPE=image/png:https://www.nbome.org/app/uploads/2024/11/L3-Score-Release.png
END:VEVENT
BEGIN:VEVENT
DTSTART;VALUE=DATE:20251007
DTEND;VALUE=DATE:20251008
DTSTAMP:20260423T041219
CREATED:20241106T184127Z
LAST-MODIFIED:20241112T134337Z
UID:7708-1759795200-1759881599@www.nbome.org
SUMMARY:Level 1 Score Release August 28-September 26
DESCRIPTION:Score release date for those who took their COMLEX-USA Level 1 exam between August 28 and September 26\, 2025.
URL:https://www.nbome.org/event/level-1-score-release-august-28-september-26/
CATEGORIES:Score Release Date
ATTACH;FMTTYPE=image/png:https://www.nbome.org/app/uploads/2024/11/L1-Score-Release.png
END:VEVENT
BEGIN:VEVENT
DTSTART;VALUE=DATE:20250923
DTEND;VALUE=DATE:20250924
DTSTAMP:20260423T041219
CREATED:20241106T191915Z
LAST-MODIFIED:20241112T134351Z
UID:7741-1758585600-1758671999@www.nbome.org
SUMMARY:Level 2-CE Score Release August 24-September 12
DESCRIPTION:Score release date for those who took their COMLEX-USA Level 2-CE exam between August 24 and September 12\, 2025.
URL:https://www.nbome.org/event/level-2-ce-score-release-august-24-september-12/
CATEGORIES:Score Release Date
ATTACH;FMTTYPE=image/png:https://www.nbome.org/app/uploads/2024/11/L2-Score-Release.png
END:VEVENT
BEGIN:VEVENT
DTSTART;VALUE=DATE:20250911
DTEND;VALUE=DATE:20250912
DTSTAMP:20260423T041219
CREATED:20250722T153217Z
LAST-MODIFIED:20250722T153217Z
UID:10078-1757548800-1757635199@www.nbome.org
SUMMARY:DMU-COM Visit
DESCRIPTION:60 minutes with faculty and 60 minutes with students.
URL:https://www.nbome.org/event/dmu-com-visit/
CATEGORIES:College Visit
ATTACH;FMTTYPE=image/jpeg:https://www.nbome.org/app/uploads/2025/07/DMU_New_Campus_3-1200x675-1.jpeg
END:VEVENT
BEGIN:VEVENT
DTSTART;VALUE=DATE:20250911
DTEND;VALUE=DATE:20250912
DTSTAMP:20260423T041219
CREATED:20241106T191834Z
LAST-MODIFIED:20241112T134409Z
UID:7740-1757548800-1757635199@www.nbome.org
SUMMARY:Level 2-CE Score Release August 5-23
DESCRIPTION:Score release date for those who took their COMLEX-USA Level 2-CE exam between August 5 and August 23\, 2025.
URL:https://www.nbome.org/event/level-2-ce-score-release-august-5-23/
CATEGORIES:Score Release Date
ATTACH;FMTTYPE=image/png:https://www.nbome.org/app/uploads/2024/11/L2-Score-Release.png
END:VEVENT
BEGIN:VEVENT
DTSTART;VALUE=DATE:20250909
DTEND;VALUE=DATE:20250910
DTSTAMP:20260423T041219
CREATED:20241106T184041Z
LAST-MODIFIED:20241112T134425Z
UID:7707-1757376000-1757462399@www.nbome.org
SUMMARY:Level 1 Score Release July 30-August 27
DESCRIPTION:Score release date for those who took their COMLEX-USA Level 1 exam between July 30 and August 27\, 2025.
URL:https://www.nbome.org/event/level-1-score-release-july-30-august-27/
CATEGORIES:Score Release Date
ATTACH;FMTTYPE=image/png:https://www.nbome.org/app/uploads/2024/11/L1-Score-Release.png
END:VEVENT
BEGIN:VEVENT
DTSTART;VALUE=DATE:20250828
DTEND;VALUE=DATE:20250829
DTSTAMP:20260423T041219
CREATED:20241106T162225Z
LAST-MODIFIED:20241112T134440Z
UID:7684-1756339200-1756425599@www.nbome.org
SUMMARY:Level 3 Score Release June 23-July 19
DESCRIPTION:Score release date for those who took their COMLEX-USA Level 3 exam between June 23 and July 19\, 2025.
URL:https://www.nbome.org/event/level-3-score-release-june-23-july-19/
CATEGORIES:Score Release Date
ATTACH;FMTTYPE=image/png:https://www.nbome.org/app/uploads/2024/11/L3-Score-Release.png
END:VEVENT
BEGIN:VEVENT
DTSTART;VALUE=DATE:20250826
DTEND;VALUE=DATE:20250827
DTSTAMP:20260423T041219
CREATED:20241106T191756Z
LAST-MODIFIED:20241112T134455Z
UID:7739-1756166400-1756252799@www.nbome.org
SUMMARY:Level 2-CE Score Release July 17-August 4
DESCRIPTION:Score release date for those who took their COMLEX-USA Level 2-CE exam between July 17 and August 4\, 2025.
URL:https://www.nbome.org/event/level-2-ce-score-release-july-17-august-4/
CATEGORIES:Score Release Date
ATTACH;FMTTYPE=image/png:https://www.nbome.org/app/uploads/2024/11/L2-Score-Release.png
END:VEVENT
BEGIN:VEVENT
DTSTART;VALUE=DATE:20250814
DTEND;VALUE=DATE:20250815
DTSTAMP:20260423T041219
CREATED:20241106T191703Z
LAST-MODIFIED:20241112T134507Z
UID:7738-1755129600-1755215999@www.nbome.org
SUMMARY:Level 2-CE Score Release June 28-July 16
DESCRIPTION:Score release date for those who took their COMLEX-USA Level 2-CE exam between June 28 and July 16\, 2025.
URL:https://www.nbome.org/event/level-2-ce-score-release-june-28-july-16/
CATEGORIES:Score Release Date
ATTACH;FMTTYPE=image/png:https://www.nbome.org/app/uploads/2024/11/L2-Score-Release.png
END:VEVENT
BEGIN:VEVENT
DTSTART;VALUE=DATE:20250812
DTEND;VALUE=DATE:20250813
DTSTAMP:20260423T041219
CREATED:20241106T183944Z
LAST-MODIFIED:20241112T134523Z
UID:7706-1754956800-1755043199@www.nbome.org
SUMMARY:Level 1 Score Release June 28-July 29
DESCRIPTION:Score release date for those who took their COMLEX-USA Level 1 exam between June 28 and July 29\, 2025.
URL:https://www.nbome.org/event/level-1-score-release-june-28-july-29/
CATEGORIES:Score Release Date
ATTACH;FMTTYPE=image/png:https://www.nbome.org/app/uploads/2024/11/L1-Score-Release.png
END:VEVENT
END:VCALENDAR