BEGIN:VCALENDAR
VERSION:2.0
PRODID:-//NBOME - ECPv6.15.16.1//NONSGML v1.0//EN
CALSCALE:GREGORIAN
METHOD:PUBLISH
X-WR-CALNAME:NBOME
X-ORIGINAL-URL:https://www.nbome.org
X-WR-CALDESC:Events for NBOME
REFRESH-INTERVAL;VALUE=DURATION:PT1H
X-Robots-Tag:noindex
X-PUBLISHED-TTL:PT1H
BEGIN:VTIMEZONE
TZID:America/New_York
BEGIN:DAYLIGHT
TZOFFSETFROM:-0500
TZOFFSETTO:-0400
TZNAME:EDT
DTSTART:20250309T070000
END:DAYLIGHT
BEGIN:STANDARD
TZOFFSETFROM:-0400
TZOFFSETTO:-0500
TZNAME:EST
DTSTART:20251102T060000
END:STANDARD
BEGIN:DAYLIGHT
TZOFFSETFROM:-0500
TZOFFSETTO:-0400
TZNAME:EDT
DTSTART:20260308T070000
END:DAYLIGHT
BEGIN:STANDARD
TZOFFSETFROM:-0400
TZOFFSETTO:-0500
TZNAME:EST
DTSTART:20261101T060000
END:STANDARD
BEGIN:DAYLIGHT
TZOFFSETFROM:-0500
TZOFFSETTO:-0400
TZNAME:EDT
DTSTART:20270314T070000
END:DAYLIGHT
BEGIN:STANDARD
TZOFFSETFROM:-0400
TZOFFSETTO:-0500
TZNAME:EST
DTSTART:20271107T060000
END:STANDARD
END:VTIMEZONE
BEGIN:VTIMEZONE
TZID:America/Chicago
BEGIN:DAYLIGHT
TZOFFSETFROM:-0600
TZOFFSETTO:-0500
TZNAME:CDT
DTSTART:20250309T080000
END:DAYLIGHT
BEGIN:STANDARD
TZOFFSETFROM:-0500
TZOFFSETTO:-0600
TZNAME:CST
DTSTART:20251102T070000
END:STANDARD
BEGIN:DAYLIGHT
TZOFFSETFROM:-0600
TZOFFSETTO:-0500
TZNAME:CDT
DTSTART:20260308T080000
END:DAYLIGHT
BEGIN:STANDARD
TZOFFSETFROM:-0500
TZOFFSETTO:-0600
TZNAME:CST
DTSTART:20261101T070000
END:STANDARD
BEGIN:DAYLIGHT
TZOFFSETFROM:-0600
TZOFFSETTO:-0500
TZNAME:CDT
DTSTART:20270314T080000
END:DAYLIGHT
BEGIN:STANDARD
TZOFFSETFROM:-0500
TZOFFSETTO:-0600
TZNAME:CST
DTSTART:20271107T070000
END:STANDARD
END:VTIMEZONE
BEGIN:VEVENT
DTSTART;VALUE=DATE:20260825
DTEND;VALUE=DATE:20260826
DTSTAMP:20260423T002907
CREATED:20251125T203043Z
LAST-MODIFIED:20251125T203043Z
UID:10416-1787616000-1787702399@www.nbome.org
SUMMARY:Level 2 Score Release 7/17/2026 - 8/4/2026
DESCRIPTION:Score release date for those who took their COMLEX-USA Level 2 exam.
URL:https://www.nbome.org/event/level-2-score-release-7-17-2026-8-4-2026/
CATEGORIES:Score Release Date
ATTACH;FMTTYPE=image/png:https://www.nbome.org/app/uploads/2024/11/L2-Score-Release.png
END:VEVENT
BEGIN:VEVENT
DTSTART;VALUE=DATE:20260813
DTEND;VALUE=DATE:20260814
DTSTAMP:20260423T002907
CREATED:20251125T202946Z
LAST-MODIFIED:20251125T202946Z
UID:10414-1786579200-1786665599@www.nbome.org
SUMMARY:Level 2 Score Release  6/28/2026 - 7/16/2026
DESCRIPTION:Score release date for those who took their COMLEX-USA Level 2 exam.
URL:https://www.nbome.org/event/level-2-score-release-6-28-2026-7-16-2026/
CATEGORIES:Score Release Date
ATTACH;FMTTYPE=image/png:https://www.nbome.org/app/uploads/2024/11/L2-Score-Release.png
END:VEVENT
BEGIN:VEVENT
DTSTART;VALUE=DATE:20260811
DTEND;VALUE=DATE:20260812
DTSTAMP:20260423T002907
CREATED:20251125T171206Z
LAST-MODIFIED:20251125T171206Z
UID:10394-1786406400-1786492799@www.nbome.org
SUMMARY:Level 1 Score Release 6/28/2026 - 7/28/2026
DESCRIPTION:Score release date for those who took their COMLEX-USA Level 1 exam.
URL:https://www.nbome.org/event/level-1-score-release-6-28-2026-7-28-2026/
CATEGORIES:Score Release Date
ATTACH;FMTTYPE=image/png:https://www.nbome.org/app/uploads/2024/11/L1-Score-Release.png
END:VEVENT
BEGIN:VEVENT
DTSTART;VALUE=DATE:20260804
DTEND;VALUE=DATE:20260805
DTSTAMP:20260423T002907
CREATED:20251125T202845Z
LAST-MODIFIED:20251125T202845Z
UID:10412-1785801600-1785887999@www.nbome.org
SUMMARY:Level 2 Score Release 6/4/2026 - 6/27/2026
DESCRIPTION:Score release date for those who took their COMLEX-USA Level 2 exam.
URL:https://www.nbome.org/event/level-2-score-release-6-4-2026-6-27-2026/
CATEGORIES:Score Release Date
ATTACH;FMTTYPE=image/png:https://www.nbome.org/app/uploads/2024/11/L2-Score-Release.png
END:VEVENT
BEGIN:VEVENT
DTSTART;VALUE=DATE:20260723
DTEND;VALUE=DATE:20260724
DTSTAMP:20260423T002907
CREATED:20251125T205053Z
LAST-MODIFIED:20251125T205053Z
UID:10442-1784764800-1784851199@www.nbome.org
SUMMARY:Level 3 Score Release 5/18/2026 - 6/6/2026
DESCRIPTION:Score release date for those who took their COMLEX-USA Level 3 exam.
URL:https://www.nbome.org/event/level-3-score-release-5-18-2026-6-6-2026/
CATEGORIES:Score Release Date
ATTACH;FMTTYPE=image/png:https://www.nbome.org/app/uploads/2024/11/L3-Score-Release.png
END:VEVENT
BEGIN:VEVENT
DTSTART;VALUE=DATE:20260721
DTEND;VALUE=DATE:20260722
DTSTAMP:20260423T002907
CREATED:20251125T160040Z
LAST-MODIFIED:20251125T160040Z
UID:10392-1784592000-1784678399@www.nbome.org
SUMMARY:Level 1 Score Release 6/14/2026 - 6/27/2026
DESCRIPTION:Score release date for those who took their COMLEX-USA Level 1 exam.
URL:https://www.nbome.org/event/level-1-score-release-6-14-2026-6-27-2026/
CATEGORIES:Score Release Date
ATTACH;FMTTYPE=image/png:https://www.nbome.org/app/uploads/2024/11/L1-Score-Release.png
END:VEVENT
BEGIN:VEVENT
DTSTART;VALUE=DATE:20260709
DTEND;VALUE=DATE:20260710
DTSTAMP:20260423T002907
CREATED:20251125T154713Z
LAST-MODIFIED:20251125T154756Z
UID:10389-1783555200-1783641599@www.nbome.org
SUMMARY:Level 1 Score Release 6/1/2026 - 6/13/2026
DESCRIPTION:Score release date for those who took their COMLEX-USA Level 1 exam.
URL:https://www.nbome.org/event/level-1-score-release-6-1-2026-6-13-2026/
CATEGORIES:Score Release Date
ATTACH;FMTTYPE=image/png:https://www.nbome.org/app/uploads/2024/11/L1-Score-Release.png
END:VEVENT
BEGIN:VEVENT
DTSTART;VALUE=DATE:20260630
DTEND;VALUE=DATE:20260701
DTSTAMP:20260423T002907
CREATED:20251125T154500Z
LAST-MODIFIED:20251125T154500Z
UID:10387-1782777600-1782863999@www.nbome.org
SUMMARY:Level 1 Score Release 5/7/2026 - 5/31/2026
DESCRIPTION:Score release date for those who took their COMLEX-USA Level 1 exam.
URL:https://www.nbome.org/event/level-1-score-release-5-7-2026-5-31-2026/
CATEGORIES:Score Release Date
ATTACH;FMTTYPE=image/png:https://www.nbome.org/app/uploads/2024/11/L1-Score-Release.png
END:VEVENT
BEGIN:VEVENT
DTSTART;VALUE=DATE:20260611
DTEND;VALUE=DATE:20260612
DTSTAMP:20260423T002907
CREATED:20251125T204952Z
LAST-MODIFIED:20251125T204952Z
UID:10440-1781136000-1781222399@www.nbome.org
SUMMARY:Level 3 Score Release 4/6/2026 - 5/2/2026
DESCRIPTION:Score release date for those who took their COMLEX-USA Level 3 exam.
URL:https://www.nbome.org/event/level-3-score-release-4-6-2026-5-2-2026/
CATEGORIES:Score Release Date
ATTACH;FMTTYPE=image/png:https://www.nbome.org/app/uploads/2024/11/L3-Score-Release.png
END:VEVENT
BEGIN:VEVENT
DTSTART;VALUE=DATE:20260514
DTEND;VALUE=DATE:20260515
DTSTAMP:20260423T002907
CREATED:20251125T204907Z
LAST-MODIFIED:20251125T204907Z
UID:10438-1778716800-1778803199@www.nbome.org
SUMMARY:Level 3 Score Release 3/2/2026 - 3/21/2026
DESCRIPTION:Score release date for those who took their COMLEX-USA Level 3 exam.
URL:https://www.nbome.org/event/level-3-score-release-3-2-2026-3-21-2026/
CATEGORIES:Score Release Date
ATTACH;FMTTYPE=image/png:https://www.nbome.org/app/uploads/2024/11/L3-Score-Release.png
END:VEVENT
BEGIN:VEVENT
DTSTART;VALUE=DATE:20260505
DTEND;VALUE=DATE:20260506
DTSTAMP:20260423T002907
CREATED:20241106T192835Z
LAST-MODIFIED:20241112T133846Z
UID:7722-1777939200-1778025599@www.nbome.org
SUMMARY:Level 2-CE Score Release March 21-April 24
DESCRIPTION:Score release date for those who took their COMLEX-USA Level 2-CE exam between March 21 and April 24\, 2026.
URL:https://www.nbome.org/event/level-2-ce-score-release-march-21-april-24/
CATEGORIES:Score Release Date
ATTACH;FMTTYPE=image/png:https://www.nbome.org/app/uploads/2024/11/L2-Score-Release.png
END:VEVENT
BEGIN:VEVENT
DTSTART;VALUE=DATE:20260421
DTEND;VALUE=DATE:20260422
DTSTAMP:20260423T002907
CREATED:20241106T184724Z
LAST-MODIFIED:20241112T133929Z
UID:7714-1776729600-1776815999@www.nbome.org
SUMMARY:Level 1 Score Release March 7-April 10
DESCRIPTION:Score release date for those who took their COMLEX-USA Level 1 exam between March 7 and April 10\, 2026.
URL:https://www.nbome.org/event/level-1-score-release-march-7-april-10/
CATEGORIES:Score Release Date
ATTACH;FMTTYPE=image/png:https://www.nbome.org/app/uploads/2024/11/L1-Score-Release.png
END:VEVENT
BEGIN:VEVENT
DTSTART;VALUE=DATE:20260408
DTEND;VALUE=DATE:20260409
DTSTAMP:20260423T002907
CREATED:20251223T142801Z
LAST-MODIFIED:20260225T232049Z
UID:10700-1775606400-1775692799@www.nbome.org
SUMMARY:VCOM-Carolinas Visit
DESCRIPTION:60-mins each
URL:https://www.nbome.org/event/cusom-visit/
CATEGORIES:College Visit
ATTACH;FMTTYPE=image/png:https://www.nbome.org/app/uploads/2025/12/vcom-carolinas.png
END:VEVENT
BEGIN:VEVENT
DTSTART;VALUE=DATE:20260402
DTEND;VALUE=DATE:20260403
DTSTAMP:20260423T002907
CREATED:20251125T204801Z
LAST-MODIFIED:20251125T204801Z
UID:10436-1775088000-1775174399@www.nbome.org
SUMMARY:Level 3 Score Release 1/14/2026 - 2/7/2026
DESCRIPTION:Score release date for those who took their COMLEX-USA Level 3 exam.
URL:https://www.nbome.org/event/level-3-score-release-1-14-2026-2-7-2026/
CATEGORIES:Score Release Date
ATTACH;FMTTYPE=image/png:https://www.nbome.org/app/uploads/2024/11/L3-Score-Release.png
END:VEVENT
BEGIN:VEVENT
DTSTART;VALUE=DATE:20260401
DTEND;VALUE=DATE:20260402
DTSTAMP:20260423T002907
CREATED:20251223T142648Z
LAST-MODIFIED:20251223T142648Z
UID:10696-1775001600-1775087999@www.nbome.org
SUMMARY:BCOM-Florida Visit
DESCRIPTION:60-mins each
URL:https://www.nbome.org/event/bcom-florida-visit/
CATEGORIES:College Visit
ATTACH;FMTTYPE=image/jpeg:https://www.nbome.org/app/uploads/2025/12/BCOM-Florida.jpg
END:VEVENT
BEGIN:VEVENT
DTSTART;VALUE=DATE:20260331
DTEND;VALUE=DATE:20260401
DTSTAMP:20260423T002907
CREATED:20241106T192755Z
LAST-MODIFIED:20241112T133941Z
UID:7721-1774915200-1775001599@www.nbome.org
SUMMARY:Level 2-CE Score Release February 14-March 20
DESCRIPTION:Score release date for those who took their COMLEX-USA Level 2-CE exam between February 14 and March 20\, 2026.
URL:https://www.nbome.org/event/level-2-ce-score-release-february-14-march-20/
CATEGORIES:Score Release Date
ATTACH;FMTTYPE=image/png:https://www.nbome.org/app/uploads/2024/11/L2-Score-Release.png
END:VEVENT
BEGIN:VEVENT
DTSTART;VALUE=DATE:20260326
DTEND;VALUE=DATE:20260327
DTSTAMP:20260423T002907
CREATED:20251223T142504Z
LAST-MODIFIED:20251223T142530Z
UID:10693-1774483200-1774569599@www.nbome.org
SUMMARY:VCOM-Virginia Visit
DESCRIPTION:60-mins each
URL:https://www.nbome.org/event/vcom-virginia/
CATEGORIES:College Visit
ATTACH;FMTTYPE=image/jpeg:https://www.nbome.org/app/uploads/2025/12/VCOM-Virginia.jpg
END:VEVENT
BEGIN:VEVENT
DTSTART;VALUE=DATE:20260324
DTEND;VALUE=DATE:20260326
DTSTAMP:20260423T002907
CREATED:20260204T172301Z
LAST-MODIFIED:20260204T172352Z
UID:11020-1774310400-1774483199@www.nbome.org
SUMMARY:TouroCOM Visit
DESCRIPTION:60-mins each
URL:https://www.nbome.org/event/tourocom-visit/
CATEGORIES:College Visit
ATTACH;FMTTYPE=image/png:https://www.nbome.org/app/uploads/2026/02/Touro-com.png
END:VEVENT
BEGIN:VEVENT
DTSTART;VALUE=DATE:20260324
DTEND;VALUE=DATE:20260325
DTSTAMP:20260423T002907
CREATED:20241106T184633Z
LAST-MODIFIED:20250314T145207Z
UID:7713-1774310400-1774396799@www.nbome.org
SUMMARY:Level 1 Score Release January 31-March 6
DESCRIPTION:Score release date for those who took their COMLEX-USA Level 1 exam between January 31 and March 6\, 2026.
URL:https://www.nbome.org/event/level-1-score-release-january-31-march-6/
CATEGORIES:Score Release Date
ATTACH;FMTTYPE=image/png:https://www.nbome.org/app/uploads/2024/11/L1-Score-Release.png
END:VEVENT
BEGIN:VEVENT
DTSTART;VALUE=DATE:20260311
DTEND;VALUE=DATE:20260312
DTSTAMP:20260423T002907
CREATED:20251223T142350Z
LAST-MODIFIED:20260225T231743Z
UID:10690-1773187200-1773273599@www.nbome.org
SUMMARY:MWU/AZCOM Visit
DESCRIPTION:60-mins each
URL:https://www.nbome.org/event/mwu-azcom-visit/
CATEGORIES:College Visit
ATTACH;FMTTYPE=image/jpeg:https://www.nbome.org/app/uploads/2025/12/MWU-AZCOM.jpg
END:VEVENT
BEGIN:VEVENT
DTSTART;VALUE=DATE:20260311
DTEND;VALUE=DATE:20260312
DTSTAMP:20260423T002907
CREATED:20251223T142111Z
LAST-MODIFIED:20251223T142121Z
UID:10684-1773187200-1773273599@www.nbome.org
SUMMARY:ATSU-SOMA Visit
DESCRIPTION:60-mins each
URL:https://www.nbome.org/event/atsu-soma/
CATEGORIES:College Visit
ATTACH;FMTTYPE=image/jpeg:https://www.nbome.org/app/uploads/2025/12/ATSU-SOMA.jpg
END:VEVENT
BEGIN:VEVENT
DTSTART;VALUE=DATE:20260224
DTEND;VALUE=DATE:20260225
DTSTAMP:20260423T002907
CREATED:20241106T192612Z
LAST-MODIFIED:20241112T134016Z
UID:7720-1771891200-1771977599@www.nbome.org
SUMMARY:Level 2-CE Score Release January 15-February 13
DESCRIPTION:Score release date for those who took their COMLEX-USA Level 2-CE exam between January 15 and February 13\, 2026.
URL:https://www.nbome.org/event/level-2-ce-score-release-january-15-february-13/
CATEGORIES:Score Release Date
ATTACH;FMTTYPE=image/png:https://www.nbome.org/app/uploads/2024/11/L2-Score-Release.png
END:VEVENT
BEGIN:VEVENT
DTSTART;VALUE=DATE:20260212
DTEND;VALUE=DATE:20260213
DTSTAMP:20260423T002907
CREATED:20241106T162700Z
LAST-MODIFIED:20241112T134031Z
UID:7688-1770854400-1770940799@www.nbome.org
SUMMARY:Level 3 Score Release December 1-20
DESCRIPTION:Score release date for those who took their COMLEX-USA Level 3 exam between December 1 and December 20\, 2025.
URL:https://www.nbome.org/event/level-3-score-release-december-1-20/
CATEGORIES:Score Release Date
ATTACH;FMTTYPE=image/png:https://www.nbome.org/app/uploads/2024/11/L3-Score-Release.png
END:VEVENT
BEGIN:VEVENT
DTSTART;VALUE=DATE:20260210
DTEND;VALUE=DATE:20260211
DTSTAMP:20260423T002907
CREATED:20241106T184538Z
LAST-MODIFIED:20241112T134048Z
UID:7712-1770681600-1770767999@www.nbome.org
SUMMARY:Level 1 Score Release December 31-January 30
DESCRIPTION:Score release date for those who took their COMLEX-USA Level 1 exam between December 31\, 2025 and January 30\, 2026.
URL:https://www.nbome.org/event/level-1-score-release-december-31-january-30/
CATEGORIES:Score Release Date
ATTACH;FMTTYPE=image/png:https://www.nbome.org/app/uploads/2024/11/L1-Score-Release.png
END:VEVENT
BEGIN:VEVENT
DTSTART;VALUE=DATE:20260127
DTEND;VALUE=DATE:20260128
DTSTAMP:20260423T002907
CREATED:20241106T192529Z
LAST-MODIFIED:20241112T134101Z
UID:7719-1769472000-1769558399@www.nbome.org
SUMMARY:Level 2-CE Score Release December 13-January 14
DESCRIPTION:Score release date for those who took their COMLEX-USA Level 2-CE exam between December 13\, 2025 and January 14\, 2026.
URL:https://www.nbome.org/event/level-2-ce-score-release-december-13-january-14/
CATEGORIES:Score Release Date
ATTACH;FMTTYPE=image/png:https://www.nbome.org/app/uploads/2024/11/L2-Score-Release.png
END:VEVENT
BEGIN:VEVENT
DTSTART;VALUE=DATE:20260122
DTEND;VALUE=DATE:20260123
DTSTAMP:20260423T002907
CREATED:20251223T141830Z
LAST-MODIFIED:20251223T142129Z
UID:10681-1769040000-1769126399@www.nbome.org
SUMMARY:TUCOM Visit
DESCRIPTION:60 minutes with faculty and 60 minutes with students.
URL:https://www.nbome.org/event/tucom/
CATEGORIES:College Visit
ATTACH;FMTTYPE=image/jpeg:https://www.nbome.org/app/uploads/2025/12/TUCOM.jpg
END:VEVENT
BEGIN:VEVENT
DTSTART;VALUE=DATE:20260113
DTEND;VALUE=DATE:20260114
DTSTAMP:20260423T002907
CREATED:20251223T141650Z
LAST-MODIFIED:20251223T142139Z
UID:10678-1768262400-1768348799@www.nbome.org
SUMMARY:WCUCOM Visit
DESCRIPTION:60 minutes with faculty and 60 minutes with students.
URL:https://www.nbome.org/event/wcucom/
CATEGORIES:College Visit
ATTACH;FMTTYPE=image/jpeg:https://www.nbome.org/app/uploads/2025/12/WCUCOM.jpg
END:VEVENT
BEGIN:VEVENT
DTSTART;VALUE=DATE:20260113
DTEND;VALUE=DATE:20260114
DTSTAMP:20260423T002907
CREATED:20241106T184439Z
LAST-MODIFIED:20241112T134114Z
UID:7711-1768262400-1768348799@www.nbome.org
SUMMARY:Level 1 Score Release November 29-December 30
DESCRIPTION:Score release date for those who took their COMLEX-USA Level 1 exam between November 29 and December 30\, 2025.
URL:https://www.nbome.org/event/level-1-score-release-november-29-december-30/
CATEGORIES:Score Release Date
ATTACH;FMTTYPE=image/png:https://www.nbome.org/app/uploads/2024/11/L1-Score-Release.png
END:VEVENT
BEGIN:VEVENT
DTSTART;VALUE=DATE:20260108
DTEND;VALUE=DATE:20260109
DTSTAMP:20260423T002907
CREATED:20251211T153749Z
LAST-MODIFIED:20251211T153749Z
UID:10527-1767830400-1767916799@www.nbome.org
SUMMARY:NSU-Florida Visit
DESCRIPTION:60 minutes with faculty and 60 minutes with students.
URL:https://www.nbome.org/event/nsu-florida-visit/
CATEGORIES:College Visit
ATTACH;FMTTYPE=image/jpeg:https://www.nbome.org/app/uploads/2025/12/NSU-Florida.jpg
END:VEVENT
BEGIN:VEVENT
DTSTART;VALUE=DATE:20260108
DTEND;VALUE=DATE:20260109
DTSTAMP:20260423T002907
CREATED:20241106T162609Z
LAST-MODIFIED:20241112T134129Z
UID:7687-1767830400-1767916799@www.nbome.org
SUMMARY:Level 3 Score Release October 27-November 15
DESCRIPTION:Score release date for those who took their COMLEX-USA Level 3 exam between October 27 and November 15\, 2025.
URL:https://www.nbome.org/event/level-3-score-release-october-27-november-15/
CATEGORIES:Score Release Date
ATTACH;FMTTYPE=image/png:https://www.nbome.org/app/uploads/2024/11/L3-Score-Release.png
END:VEVENT
END:VCALENDAR